BEGIN:VCALENDAR
VERSION:2.0
PRODID:-//ChurchDev//Events//EN
CALSCALE:GREGORIAN
METHOD:PUBLISH
BEGIN:VEVENT
UID:3380-20240616@www.rgbible.church
SUMMARY:Sunday School
DTSTART:20240616T130000Z
DTEND:20240616T140000Z
DESCRIPTION:Come join us as we study Gods word together!\\nWe are currently studying through 1 &amp\; 2 Timothy.\\n\\nhttps://www.rgbible.church/events/sunday-school/
URL:https://www.rgbible.church/events/sunday-school/
DTSTAMP:20260419T182554Z
END:VEVENT
END:VCALENDAR
