BEGIN:VCALENDAR
VERSION:2.0
PRODID:-//ChurchDev//Events//EN
CALSCALE:GREGORIAN
METHOD:PUBLISH
BEGIN:VEVENT
UID:2832-20230226@www.rgbible.church
SUMMARY:Sunday Service
DTSTART:20230226T153000Z
DTEND:20230226T170000Z
DESCRIPTION:When we consider worship\, we are looking at a means of grace that is incredibly comprehensive. Corporate worship includes all of the basic elements of the Christian life.\\nEvery Lord&#8217\;s Day we study the Bible as we sit under the preaching of the Word and sing it in our songs and hymns.\\nWe exercise stewardship over our resources and time as we give of our tithes and offerings and serve one another. Our worship together encourages us to remain focused on the Lord and His praise.\\n\\nhttps://www.rgbible.church/events/sunday-service/
LOCATION:209 Center St\, Ashland\, OH 44805
URL:https://www.rgbible.church/events/sunday-service/
DTSTAMP:20260419T163943Z
END:VEVENT
END:VCALENDAR
