BEGIN:VCALENDAR
VERSION:2.0
PRODID:-//ChurchDev//Events//EN
CALSCALE:GREGORIAN
METHOD:PUBLISH
BEGIN:VEVENT
UID:2808-20221228@www.rgbible.church
SUMMARY:Wednesday Bible Study
DTSTART:20221228T233000Z
DTEND:20221229T010000Z
DESCRIPTION:We meet each Wednesday evening to open the Word of God to learn more about Him.\\nWe are currently studying the Holy Spirit through John MacArthur&#8217\;s Strange Fire series. If you miss a week or need to catch up you can find the videos and transcripts here\\n\\nhttps://www.rgbible.church/events/wednesday-bible-study/
LOCATION:209 Center St\, Ashland\, OH 44805
URL:https://www.rgbible.church/events/wednesday-bible-study/
DTSTAMP:20260419T203116Z
END:VEVENT
END:VCALENDAR
